Package: signifinder Version: 1.11.0 Command: /home/biocbuild/R/R/bin/R CMD INSTALL signifinder StartedAt: 2025-10-23 21:25:30 -0000 (Thu, 23 Oct 2025) EndedAt: 2025-10-23 21:26:47 -0000 (Thu, 23 Oct 2025) EllapsedTime: 76.1 seconds RetCode: 0 Status: OK