Package: signifinder Version: 1.11.0 Command: /home/biocbuild/bbs-3.22-bioc/R/bin/R CMD build --keep-empty-dirs --no-resave-data --md5 signifinder StartedAt: 2025-10-22 20:07:16 -0400 (Wed, 22 Oct 2025) EndedAt: 2025-10-22 20:10:03 -0400 (Wed, 22 Oct 2025) EllapsedTime: 167.2 seconds RetCode: 0 Status: OK PackageFile: signifinder_1.11.0.tar.gz PackageFileSize: 9.548 MiB