Package: signifinder Version: 1.11.0 Command: /Library/Frameworks/R.framework/Resources/bin/R CMD check --install=check:signifinder.install-out.txt --library=/Library/Frameworks/R.framework/Resources/library --no-vignettes --timings signifinder_1.11.0.tar.gz StartedAt: 2025-10-23 22:12:32 -0400 (Thu, 23 Oct 2025) EndedAt: 2025-10-23 22:20:20 -0400 (Thu, 23 Oct 2025) EllapsedTime: 468.5 seconds RetCode: 0 Status: OK CheckDir: signifinder.Rcheck Warnings: 0