Package: signeR Version: 2.11.1 Command: /home/biocbuild/R/R/bin/R CMD check --install=check:signeR.install-out.txt --library=/home/biocbuild/R/R/site-library --no-vignettes --timings signeR_2.11.1.tar.gz StartedAt: 2025-10-07 12:10:56 -0000 (Tue, 07 Oct 2025) EndedAt: 2025-10-07 12:20:49 -0000 (Tue, 07 Oct 2025) EllapsedTime: 592.8 seconds RetCode: 0 Status: OK CheckDir: signeR.Rcheck Warnings: 0