Package: signeR Version: 2.11.0 Command: chmod a+r signeR -R && F:\biocbuild\bbs-3.22-bioc\R\bin\R.exe CMD build --keep-empty-dirs --no-resave-data signeR StartedAt: 2025-08-14 23:18:13 -0400 (Thu, 14 Aug 2025) EndedAt: 2025-08-14 23:24:48 -0400 (Thu, 14 Aug 2025) EllapsedTime: 395.5 seconds RetCode: 0 Status: OK PackageFile: signeR_2.11.0.tar.gz PackageFileSize: 2.477 MiB