Package: signeR Version: 2.11.0 Command: rm -rf signeR.buildbin-libdir && mkdir signeR.buildbin-libdir && F:\biocbuild\bbs-3.22-bioc\R\bin\R.exe CMD INSTALL --build --library=signeR.buildbin-libdir signeR_2.11.0.tar.gz StartedAt: 2025-08-15 11:19:57 -0400 (Fri, 15 Aug 2025) EndedAt: 2025-08-15 11:22:09 -0400 (Fri, 15 Aug 2025) EllapsedTime: 131.8 seconds RetCode: 0 Status: OK PackageFile: signeR_2.11.0.zip PackageFileSize: 2.886 MiB