Package: signatureSearch Version: 1.23.0 Command: chmod a+r signatureSearch -R && F:\biocbuild\bbs-3.22-bioc\R\bin\R.exe CMD build --keep-empty-dirs --no-resave-data signatureSearch StartedAt: 2025-08-14 23:17:43 -0400 (Thu, 14 Aug 2025) EndedAt: 2025-08-14 23:35:17 -0400 (Thu, 14 Aug 2025) EllapsedTime: 1053.8 seconds RetCode: 0 Status: OK PackageFile: signatureSearch_1.23.0.tar.gz PackageFileSize: 4.926 MiB