Package: signatureSearch Version: 1.23.0 Command: /home/biocbuild/bbs-3.22-bioc/R/bin/R CMD INSTALL signatureSearch StartedAt: 2025-10-21 15:50:00 -0400 (Tue, 21 Oct 2025) EndedAt: 2025-10-21 15:51:42 -0400 (Tue, 21 Oct 2025) EllapsedTime: 101.9 seconds RetCode: 0 Status: OK