Package: signatureSearch Version: 1.23.0 Command: /home/biocbuild/bbs-3.22-bioc/R/bin/R CMD check --install=check:signatureSearch.install-out.txt --library=/home/biocbuild/bbs-3.22-bioc/R/site-library --timings signatureSearch_1.23.0.tar.gz StartedAt: 2025-10-21 04:43:28 -0400 (Tue, 21 Oct 2025) EndedAt: 2025-10-21 05:03:03 -0400 (Tue, 21 Oct 2025) EllapsedTime: 1174.9 seconds RetCode: 0 Status: OK CheckDir: signatureSearch.Rcheck Warnings: 0