Package: signatureSearch Version: 1.23.0 Command: /Library/Frameworks/R.framework/Resources/bin/R CMD INSTALL signatureSearch StartedAt: 2025-10-20 15:43:33 -0400 (Mon, 20 Oct 2025) EndedAt: 2025-10-20 15:46:07 -0400 (Mon, 20 Oct 2025) EllapsedTime: 154.2 seconds RetCode: 0 Status: OK