Package: signatureSearch Version: 1.23.0 Command: /Library/Frameworks/R.framework/Resources/bin/R CMD build --keep-empty-dirs --no-resave-data signatureSearch StartedAt: 2025-10-21 19:33:55 -0400 (Tue, 21 Oct 2025) EndedAt: 2025-10-21 19:49:30 -0400 (Tue, 21 Oct 2025) EllapsedTime: 935.2 seconds RetCode: 0 Status: OK PackageFile: signatureSearch_1.23.0.tar.gz PackageFileSize: 5.286 MiB