Package: siggenes Version: 1.83.0 Command: /Library/Frameworks/R.framework/Resources/bin/R CMD check --install=check:siggenes.install-out.txt --library=/Library/Frameworks/R.framework/Resources/library --no-vignettes --timings siggenes_1.83.0.tar.gz StartedAt: 2025-10-25 00:18:24 -0400 (Sat, 25 Oct 2025) EndedAt: 2025-10-25 00:19:46 -0400 (Sat, 25 Oct 2025) EllapsedTime: 82.6 seconds RetCode: 0 Status: OK CheckDir: siggenes.Rcheck Warnings: 0