Package: sigFeature Version: 1.28.0 Command: /Library/Frameworks/R.framework/Resources/bin/R CMD check --install=check:sigFeature.install-out.txt --library=/Library/Frameworks/R.framework/Resources/library --no-vignettes --timings sigFeature_1.28.0.tar.gz StartedAt: 2025-11-18 14:43:05 -0500 (Tue, 18 Nov 2025) EndedAt: 2025-11-18 14:50:20 -0500 (Tue, 18 Nov 2025) EllapsedTime: 434.0 seconds RetCode: 0 Status: WARNINGS CheckDir: sigFeature.Rcheck Warnings: 1