Package: sigFeature Version: 1.28.0 Command: rm -rf sigFeature.buildbin-libdir && mkdir sigFeature.buildbin-libdir && /Users/biocbuild/BBS/utils/build-universal.sh sigFeature_1.28.0.tar.gz /Library/Frameworks/R.framework/Resources/bin/R sigFeature.buildbin-libdir StartedAt: 2025-11-18 18:36:15 -0500 (Tue, 18 Nov 2025) EndedAt: 2025-11-18 18:37:10 -0500 (Tue, 18 Nov 2025) EllapsedTime: 54.5 seconds RetCode: 0 Status: OK PackageFile: sigFeature_1.28.0.tgz PackageFileSize: 502.8 KiB