Package: sigFeature Version: 1.28.0 Command: /Library/Frameworks/R.framework/Resources/bin/R CMD INSTALL sigFeature StartedAt: 2025-11-20 17:11:31 -0500 (Thu, 20 Nov 2025) EndedAt: 2025-11-20 17:12:00 -0500 (Thu, 20 Nov 2025) EllapsedTime: 28.6 seconds RetCode: 0 Status: OK