Package: sigFeature Version: 1.28.0 Command: /Library/Frameworks/R.framework/Resources/bin/R CMD build --keep-empty-dirs --no-resave-data sigFeature StartedAt: 2025-11-21 10:10:44 -0500 (Fri, 21 Nov 2025) EndedAt: 2025-11-21 10:11:30 -0500 (Fri, 21 Nov 2025) EllapsedTime: 45.6 seconds RetCode: 0 Status: OK PackageFile: sigFeature_1.28.0.tar.gz PackageFileSize: 370.5 KiB