Package: shinyepico Version: 1.17.0 Command: rm -rf shinyepico.buildbin-libdir && mkdir shinyepico.buildbin-libdir && F:\biocbuild\bbs-3.22-bioc\R\bin\R.exe CMD INSTALL --build --library=shinyepico.buildbin-libdir shinyepico_1.17.0.tar.gz StartedAt: 2025-08-15 11:19:08 -0400 (Fri, 15 Aug 2025) EndedAt: 2025-08-15 11:19:36 -0400 (Fri, 15 Aug 2025) EllapsedTime: 28.3 seconds RetCode: 0 Status: OK PackageFile: shinyepico_1.17.0.zip PackageFileSize: 1.468 MiB