Package: shinyepico Version: 1.17.0 Command: /home/biocbuild/bbs-3.22-bioc/R/bin/R CMD INSTALL shinyepico StartedAt: 2025-10-19 15:43:39 -0400 (Sun, 19 Oct 2025) EndedAt: 2025-10-19 15:43:44 -0400 (Sun, 19 Oct 2025) EllapsedTime: 4.9 seconds RetCode: 0 Status: OK