Package: shinyepico Version: 1.17.0 Command: /home/biocbuild/bbs-3.22-bioc/R/bin/R CMD check --install=check:shinyepico.install-out.txt --library=/home/biocbuild/bbs-3.22-bioc/R/site-library --timings shinyepico_1.17.0.tar.gz StartedAt: 2025-10-20 04:48:51 -0400 (Mon, 20 Oct 2025) EndedAt: 2025-10-20 04:51:36 -0400 (Mon, 20 Oct 2025) EllapsedTime: 165.2 seconds RetCode: 0 Status: OK CheckDir: shinyepico.Rcheck Warnings: 0