Package: shinyepico Version: 1.17.0 Command: rm -rf shinyepico.buildbin-libdir && mkdir shinyepico.buildbin-libdir && /Users/biocbuild/BBS/utils/build-universal.sh shinyepico_1.17.0.tar.gz /Library/Frameworks/R.framework/Resources/bin/R shinyepico.buildbin-libdir StartedAt: 2025-10-20 03:33:58 -0400 (Mon, 20 Oct 2025) EndedAt: 2025-10-20 03:34:10 -0400 (Mon, 20 Oct 2025) EllapsedTime: 12.6 seconds RetCode: 0 Status: OK PackageFile: shinyepico_1.17.0.tgz PackageFileSize: 1.468 MiB