Package: shinyepico Version: 1.17.0 Command: /Library/Frameworks/R.framework/Resources/bin/R CMD build --keep-empty-dirs --no-resave-data shinyepico StartedAt: 2025-10-19 17:42:11 -0400 (Sun, 19 Oct 2025) EndedAt: 2025-10-19 17:42:15 -0400 (Sun, 19 Oct 2025) EllapsedTime: 4.1 seconds RetCode: 0 Status: OK PackageFile: shinyepico_1.17.0.tar.gz PackageFileSize: 2.248 MiB