Package: shinybiocloader Version: 0.99.1 Command: /home/biocbuild/bbs-3.22-bioc/R/bin/R CMD INSTALL shinybiocloader StartedAt: 2025-10-20 15:07:01 -0400 (Mon, 20 Oct 2025) EndedAt: 2025-10-20 15:07:36 -0400 (Mon, 20 Oct 2025) EllapsedTime: 35.4 seconds RetCode: 0 Status: OK