Package: shinybiocloader Version: 0.99.1 Command: /home/biocbuild/bbs-3.22-bioc/R/bin/R CMD build --keep-empty-dirs --no-resave-data --md5 shinybiocloader StartedAt: 2025-10-20 19:59:52 -0400 (Mon, 20 Oct 2025) EndedAt: 2025-10-20 20:00:00 -0400 (Mon, 20 Oct 2025) EllapsedTime: 8.0 seconds RetCode: 0 Status: OK PackageFile: shinybiocloader_0.99.1.tar.gz PackageFileSize: 29.33 KiB