Package: shinyMethyl Version: 1.45.0 Command: /home/biocbuild/bbs-3.22-bioc/R/bin/R CMD check --install=check:shinyMethyl.install-out.txt --library=/home/biocbuild/bbs-3.22-bioc/R/site-library --timings shinyMethyl_1.45.0.tar.gz StartedAt: 2025-10-21 04:41:28 -0400 (Tue, 21 Oct 2025) EndedAt: 2025-10-21 04:47:27 -0400 (Tue, 21 Oct 2025) EllapsedTime: 359.3 seconds RetCode: 0 Status: OK CheckDir: shinyMethyl.Rcheck Warnings: 0