Package: shinyMethyl Version: 1.45.0 Command: /Library/Frameworks/R.framework/Resources/bin/R CMD check --install=check:shinyMethyl.install-out.txt --library=/Library/Frameworks/R.framework/Resources/library --no-vignettes --timings shinyMethyl_1.45.0.tar.gz StartedAt: 2025-10-20 22:03:17 -0400 (Mon, 20 Oct 2025) EndedAt: 2025-10-20 22:05:36 -0400 (Mon, 20 Oct 2025) EllapsedTime: 139.7 seconds RetCode: 0 Status: OK CheckDir: shinyMethyl.Rcheck Warnings: 0