Package: shinyMethyl Version: 1.45.0 Command: /Library/Frameworks/R.framework/Resources/bin/R CMD build --keep-empty-dirs --no-resave-data shinyMethyl StartedAt: 2025-10-20 17:42:37 -0400 (Mon, 20 Oct 2025) EndedAt: 2025-10-20 17:43:06 -0400 (Mon, 20 Oct 2025) EllapsedTime: 28.3 seconds RetCode: 0 Status: OK PackageFile: shinyMethyl_1.45.0.tar.gz PackageFileSize: 7.241 MiB