Package: shinyDSP Version: 1.2.0 Command: /home/biocbuild/R/R/bin/R CMD build --keep-empty-dirs --no-resave-data shinyDSP StartedAt: 2025-11-14 05:22:45 -0000 (Fri, 14 Nov 2025) EndedAt: 2025-11-14 05:29:21 -0000 (Fri, 14 Nov 2025) EllapsedTime: 396.4 seconds RetCode: 0 Status: OK PackageFile: shinyDSP_1.2.0.tar.gz PackageFileSize: 2.485 MiB