Package: shiny.gosling Version: 1.6.0 Command: /home/biocbuild/R/R/bin/R CMD INSTALL shiny.gosling StartedAt: 2025-11-20 21:56:23 -0000 (Thu, 20 Nov 2025) EndedAt: 2025-11-20 21:56:49 -0000 (Thu, 20 Nov 2025) EllapsedTime: 26.2 seconds RetCode: 0 Status: OK