Package: shiny.gosling Version: 1.6.0 Command: /home/biocbuild/R/R/bin/R CMD build --keep-empty-dirs --no-resave-data shiny.gosling StartedAt: 2025-11-21 05:53:59 -0000 (Fri, 21 Nov 2025) EndedAt: 2025-11-21 05:54:33 -0000 (Fri, 21 Nov 2025) EllapsedTime: 34.0 seconds RetCode: 1 Status: ERROR PackageFile: None PackageFileSize: NA