Package: sevenC Version: 1.29.0 Command: /Library/Frameworks/R.framework/Resources/bin/R CMD check --install=check:sevenC.install-out.txt --library=/Library/Frameworks/R.framework/Resources/library --no-vignettes --timings sevenC_1.29.0.tar.gz StartedAt: 2025-07-23 23:38:09 -0400 (Wed, 23 Jul 2025) EndedAt: 2025-07-23 23:41:57 -0400 (Wed, 23 Jul 2025) EllapsedTime: 228.6 seconds RetCode: 0 Status: OK CheckDir: sevenC.Rcheck Warnings: 0