Package: sevenC Version: 1.29.1 Command: /Library/Frameworks/R.framework/Resources/bin/R CMD build --keep-empty-dirs --no-resave-data sevenC StartedAt: 2025-09-30 18:48:31 -0400 (Tue, 30 Sep 2025) EndedAt: 2025-09-30 18:49:09 -0400 (Tue, 30 Sep 2025) EllapsedTime: 38.8 seconds RetCode: 1 Status: ERROR PackageFile: None PackageFileSize: NA