Package: sevenC Version: 1.29.0 Command: rm -rf sevenC.buildbin-libdir && mkdir sevenC.buildbin-libdir && /Users/biocbuild/BBS/utils/build-universal.sh sevenC_1.29.0.tar.gz /Library/Frameworks/R.framework/Resources/bin/R sevenC.buildbin-libdir StartedAt: 2025-07-24 01:24:16 -0400 (Thu, 24 Jul 2025) EndedAt: 2025-07-24 01:24:50 -0400 (Thu, 24 Jul 2025) EllapsedTime: 34.2 seconds RetCode: 0 Status: OK PackageFile: sevenC_1.29.0.tgz PackageFileSize: 2.041 MiB