Package: sevenC Version: 1.30.0 Command: /Library/Frameworks/R.framework/Resources/bin/R CMD check --install=check:sevenC.install-out.txt --library=/Library/Frameworks/R.framework/Resources/library --no-vignettes --timings sevenC_1.30.0.tar.gz StartedAt: 2025-11-10 22:21:24 -0500 (Mon, 10 Nov 2025) EndedAt: 2025-11-10 22:22:45 -0500 (Mon, 10 Nov 2025) EllapsedTime: 81.0 seconds RetCode: 0 Status: OK CheckDir: sevenC.Rcheck Warnings: 0