Package: sesame Version: 1.27.1 Command: chmod a+r sesame -R && F:\biocbuild\bbs-3.22-bioc\R\bin\R.exe CMD build --keep-empty-dirs --no-resave-data sesame StartedAt: 2025-08-14 23:15:01 -0400 (Thu, 14 Aug 2025) EndedAt: 2025-08-14 23:22:18 -0400 (Thu, 14 Aug 2025) EllapsedTime: 437.5 seconds RetCode: 0 Status: OK PackageFile: sesame_1.27.1.tar.gz PackageFileSize: 15.96 MiB