Package: sesame Version: 1.27.1 Command: rm -rf sesame.buildbin-libdir && mkdir sesame.buildbin-libdir && F:\biocbuild\bbs-3.22-bioc\R\bin\R.exe CMD INSTALL --build --library=sesame.buildbin-libdir sesame_1.27.1.tar.gz StartedAt: 2025-08-15 11:18:35 -0400 (Fri, 15 Aug 2025) EndedAt: 2025-08-15 11:20:28 -0400 (Fri, 15 Aug 2025) EllapsedTime: 113.3 seconds RetCode: 0 Status: OK PackageFile: sesame_1.27.1.zip PackageFileSize: 16.57 MiB