Package: sesame Version: 1.28.0 Command: /home/biocbuild/bbs-3.22-bioc/R/bin/R CMD INSTALL sesame StartedAt: 2025-11-14 15:29:28 -0500 (Fri, 14 Nov 2025) EndedAt: 2025-11-14 15:30:03 -0500 (Fri, 14 Nov 2025) EllapsedTime: 35.3 seconds RetCode: 0 Status: OK