############################################################################## ############################################################################## ### ### Running command: ### ### /home/biocbuild/bbs-3.22-bioc/R/bin/R CMD check --install=check:sesame.install-out.txt --library=/home/biocbuild/bbs-3.22-bioc/R/site-library --timings sesame_1.28.0.tar.gz ### ############################################################################## ############################################################################## * using log directory ‘/home/biocbuild/bbs-3.22-bioc/meat/sesame.Rcheck’ * using R version 4.5.1 Patched (2025-08-23 r88802) * using platform: x86_64-pc-linux-gnu * R was compiled by gcc (Ubuntu 13.3.0-6ubuntu2~24.04) 13.3.0 GNU Fortran (Ubuntu 13.3.0-6ubuntu2~24.04) 13.3.0 * running under: Ubuntu 24.04.3 LTS * using session charset: UTF-8 * checking for file ‘sesame/DESCRIPTION’ ... OK * checking extension type ... Package * this is package ‘sesame’ version ‘1.28.0’ * package encoding: UTF-8 * checking package namespace information ... OK * checking package dependencies ... OK * checking if this is a source package ... OK * checking if there is a namespace ... OK * checking for hidden files and directories ... OK * checking for portable file names ... OK * checking for sufficient/correct file permissions ... OK * checking whether package ‘sesame’ can be installed ... OK * checking installed package size ... OK * checking package directory ... OK * checking ‘build’ directory ... OK * checking DESCRIPTION meta-information ... OK * checking top-level files ... OK * checking for left-over files ... OK * checking index information ... OK * checking package subdirectories ... OK * checking code files for non-ASCII characters ... OK * checking R files for syntax errors ... OK * checking whether the package can be loaded ... OK * checking whether the package can be loaded with stated dependencies ... OK * checking whether the package can be unloaded cleanly ... OK * checking whether the namespace can be loaded with stated dependencies ... OK * checking whether the namespace can be unloaded cleanly ... OK * checking loading without being on the library search path ... OK * checking whether startup messages can be suppressed ... OK * checking dependencies in R code ... OK * checking S3 generic/method consistency ... OK * checking replacement functions ... OK * checking foreign function calls ... OK * checking R code for possible problems ... OK * checking Rd files ... OK * checking Rd metadata ... OK * checking Rd cross-references ... OK * checking for missing documentation entries ... OK * checking for code/documentation mismatches ... OK * checking Rd \usage sections ... OK * checking Rd contents ... OK * checking for unstated dependencies in examples ... OK * checking files in ‘vignettes’ ... OK * checking examples ... OK Examples with CPU (user + system) or elapsed time > 5s user system elapsed imputeBetasByGenomicNeighbors 32.067 0.702 32.773 inferSex 20.717 0.232 20.951 sesameQC_plotHeatSNPs 18.926 0.312 19.241 sesameQC_calcStats 17.540 0.169 17.718 imputeBetas 17.012 0.412 17.426 inferSpecies 13.361 0.659 14.021 ELBAR 12.850 0.206 13.057 diffRefSet 12.699 0.268 12.968 compareMouseStrainReference 11.613 0.082 11.721 sesameQC_plotBar 11.282 0.211 11.509 compareReference 10.880 0.195 11.075 getRefSet 10.898 0.050 10.952 matchDesign 10.822 0.054 10.883 sesameQC_plotBetaByDesign 9.478 0.097 9.578 visualizeGene 8.839 0.178 9.018 DMR 7.865 0.210 8.076 sdf_read_table 7.447 0.095 7.542 inferStrain 6.909 0.454 7.364 dyeBiasCorrMostBalanced 6.940 0.107 7.046 getMask 6.783 0.143 6.927 DML 6.406 0.325 6.732 estimateLeukocyte 6.353 0.117 6.470 inferTissue 6.125 0.212 6.338 createUCSCtrack 5.450 0.153 5.603 deIdentify 5.429 0.090 5.522 dyeBiasNL 5.251 0.067 5.319 * checking for unstated dependencies in ‘tests’ ... OK * checking tests ... Running ‘testthat.R’ OK * checking for unstated dependencies in vignettes ... OK * checking package vignettes ... OK * checking re-building of vignette outputs ... OK * checking PDF version of manual ... OK * DONE Status: OK