Package: seqLogo Version: 1.75.0 Command: F:\biocbuild\bbs-3.22-bioc\R\bin\R.exe CMD INSTALL seqLogo StartedAt: 2025-08-14 15:20:34 -0400 (Thu, 14 Aug 2025) EndedAt: 2025-08-14 15:21:18 -0400 (Thu, 14 Aug 2025) EllapsedTime: 43.6 seconds RetCode: 0 Status: OK