Package: seqLogo Version: 1.75.0 Command: F:\biocbuild\bbs-3.22-bioc\R\bin\R.exe CMD check --no-multiarch --install=check:seqLogo.install-out.txt --library=F:\biocbuild\bbs-3.22-bioc\R\library --no-vignettes --timings seqLogo_1.75.0.tar.gz StartedAt: 2025-08-15 07:49:02 -0400 (Fri, 15 Aug 2025) EndedAt: 2025-08-15 07:49:37 -0400 (Fri, 15 Aug 2025) EllapsedTime: 34.8 seconds RetCode: 0 Status: OK CheckDir: seqLogo.Rcheck Warnings: 0