Package: seqCAT Version: 1.31.0 Command: /home/biocbuild/R/R/bin/R CMD INSTALL seqCAT StartedAt: 2025-10-23 21:06:05 -0000 (Thu, 23 Oct 2025) EndedAt: 2025-10-23 21:06:53 -0000 (Thu, 23 Oct 2025) EllapsedTime: 47.6 seconds RetCode: 0 Status: OK