Package: seqCAT Version: 1.31.0 Command: rm -rf seqCAT.buildbin-libdir && mkdir seqCAT.buildbin-libdir && F:\biocbuild\bbs-3.22-bioc\R\bin\R.exe CMD INSTALL --build --library=seqCAT.buildbin-libdir seqCAT_1.31.0.tar.gz StartedAt: 2025-08-15 11:17:55 -0400 (Fri, 15 Aug 2025) EndedAt: 2025-08-15 11:18:51 -0400 (Fri, 15 Aug 2025) EllapsedTime: 56.5 seconds RetCode: 0 Status: OK PackageFile: seqCAT_1.31.0.zip PackageFileSize: 1.876 MiB