Package: seqCAT Version: 1.31.0 Command: /home/biocbuild/bbs-3.22-bioc/R/bin/R CMD INSTALL seqCAT StartedAt: 2025-10-20 15:40:54 -0400 (Mon, 20 Oct 2025) EndedAt: 2025-10-20 15:41:31 -0400 (Mon, 20 Oct 2025) EllapsedTime: 36.5 seconds RetCode: 0 Status: OK