Package: seqCAT Version: 1.31.0 Command: /home/biocbuild/bbs-3.22-bioc/R/bin/R CMD check --install=check:seqCAT.install-out.txt --library=/home/biocbuild/bbs-3.22-bioc/R/site-library --timings seqCAT_1.31.0.tar.gz StartedAt: 2025-10-21 04:37:23 -0400 (Tue, 21 Oct 2025) EndedAt: 2025-10-21 04:43:09 -0400 (Tue, 21 Oct 2025) EllapsedTime: 345.4 seconds RetCode: 0 Status: OK CheckDir: seqCAT.Rcheck Warnings: 0