Package: seqCAT Version: 1.31.0 Command: /Library/Frameworks/R.framework/Resources/bin/R CMD check --install=check:seqCAT.install-out.txt --library=/Library/Frameworks/R.framework/Resources/library --no-vignettes --timings seqCAT_1.31.0.tar.gz StartedAt: 2025-10-21 01:41:44 -0400 (Tue, 21 Oct 2025) EndedAt: 2025-10-21 01:47:26 -0400 (Tue, 21 Oct 2025) EllapsedTime: 341.3 seconds RetCode: 0 Status: OK CheckDir: seqCAT.Rcheck Warnings: 0