Package: seqCAT Version: 1.31.0 Command: /Library/Frameworks/R.framework/Resources/bin/R CMD check --install=check:seqCAT.install-out.txt --library=/Library/Frameworks/R.framework/Resources/library --no-vignettes --timings seqCAT_1.31.0.tar.gz StartedAt: 2025-10-20 22:01:20 -0400 (Mon, 20 Oct 2025) EndedAt: 2025-10-20 22:03:17 -0400 (Mon, 20 Oct 2025) EllapsedTime: 116.5 seconds RetCode: 0 Status: OK CheckDir: seqCAT.Rcheck Warnings: 0