Package: seqArchRplus Version: 1.9.1 Command: rm -rf seqArchRplus.buildbin-libdir && mkdir seqArchRplus.buildbin-libdir && F:\biocbuild\bbs-3.22-bioc\R\bin\R.exe CMD INSTALL --build --library=seqArchRplus.buildbin-libdir seqArchRplus_1.9.1.tar.gz StartedAt: 2025-08-15 11:17:52 -0400 (Fri, 15 Aug 2025) EndedAt: 2025-08-15 11:19:04 -0400 (Fri, 15 Aug 2025) EllapsedTime: 72.4 seconds RetCode: 0 Status: OK PackageFile: seqArchRplus_1.9.1.zip PackageFileSize: 1.871 MiB