Package: seqArchRplus Version: 1.10.0 Command: /Library/Frameworks/R.framework/Resources/bin/R CMD check --install=check:seqArchRplus.install-out.txt --library=/Library/Frameworks/R.framework/Resources/library --no-vignettes --timings seqArchRplus_1.10.0.tar.gz StartedAt: 2025-11-18 14:33:17 -0500 (Tue, 18 Nov 2025) EndedAt: 2025-11-18 14:33:23 -0500 (Tue, 18 Nov 2025) EllapsedTime: 6.0 seconds RetCode: 1 Status: ERROR CheckDir: seqArchRplus.Rcheck Warnings: NA