Package: seqArchRplus Version: 1.10.0 Command: /Library/Frameworks/R.framework/Resources/bin/R CMD build --keep-empty-dirs --no-resave-data seqArchRplus StartedAt: 2025-11-18 02:11:57 -0500 (Tue, 18 Nov 2025) EndedAt: 2025-11-18 02:17:55 -0500 (Tue, 18 Nov 2025) EllapsedTime: 357.6 seconds RetCode: 0 Status: OK PackageFile: seqArchRplus_1.10.0.tar.gz PackageFileSize: 3.742 MiB