Package: seqArchRplus Version: 1.10.0 Command: rm -rf seqArchRplus.buildbin-libdir && mkdir seqArchRplus.buildbin-libdir && /Users/biocbuild/BBS/utils/build-universal.sh seqArchRplus_1.10.0.tar.gz /Library/Frameworks/R.framework/Resources/bin/R seqArchRplus.buildbin-libdir StartedAt: 2025-11-21 15:37:35 -0500 (Fri, 21 Nov 2025) EndedAt: 2025-11-21 15:38:33 -0500 (Fri, 21 Nov 2025) EllapsedTime: 58.1 seconds RetCode: 0 Status: OK PackageFile: seqArchRplus_1.10.0.tgz PackageFileSize: 3.847 MiB