Package: seqArchRplus Version: 1.10.0 Command: /Library/Frameworks/R.framework/Resources/bin/R CMD INSTALL seqArchRplus StartedAt: 2025-11-10 15:31:58 -0500 (Mon, 10 Nov 2025) EndedAt: 2025-11-10 15:32:08 -0500 (Mon, 10 Nov 2025) EllapsedTime: 10.2 seconds RetCode: 0 Status: OK